OziExplorer Map Data File Version 2.2
Map-027.jpg
D:\Greece\Map-027.jpg
1 ,Map Code,
WGS 84,WGS 84, 0.0000, 0.0000,WGS 84
Reserved 1
Reserved 2
Magnetic Variation,,,E
Map Projection,Latitude/Longitude,PolyCal,No,AutoCalOnly,No,BSBUseWPX,No
Point01,xy, 43, 292,in, deg, 38, 24.5958,N, 24, 9.633,E, grid, , , ,N
Point02,xy, 1652, 366,in, deg, 37, 32.28,N, 25, 10.308,E, grid, , , ,N
Point03,xy, 2466, 858,in, deg, 37, 26.5836,N, 25, 19.9356,E, grid, , , ,N
Point04,xy, 2649, 3352,in, deg, 37, 53.0472,N, 24, 44.0472,E, grid, , , ,N
Point05,xy, 990, 2349,in, deg, 38, 3.2436,N, 24, 22.3248,E, grid, , , ,N
Point06,xy, 332, 1449,in, deg, 38, 12.7722,N, 24, 13.8246,E, grid, , , ,N
Point07,xy, , ,in, deg, , ,N, , ,W, grid, , , ,N
Point08,xy, , ,in, deg, , ,N, , ,W, grid, , , ,N
Point09,xy, , ,in, deg, , ,N, , ,W, grid, , , ,N
Point10,xy, , ,in, deg, , ,, , ,, grid, , , ,
Point11,xy, , ,in, deg, , ,, , ,, grid, , , ,
Point12,xy, , ,in, deg, , ,, , ,, grid, , , ,
Point13,xy, , ,in, deg, , ,, , ,, grid, , , ,
Point14,xy, , ,in, deg, , ,, , ,, grid, , , ,
Point15,xy, , ,in, deg, , ,, , ,, grid, , , ,
Point16,xy, , ,in, deg, , ,, , ,, grid, , , ,
Point17,xy, , ,in, deg, , ,, , ,, grid, , , ,
Point18,xy, , ,in, deg, , ,, , ,, grid, , , ,
Point19,xy, , ,in, deg, , ,, , ,, grid, , , ,
Point20,xy, , ,in, deg, , ,, , ,, grid, , , ,
Point21,xy, , ,in, deg, , ,, , ,, grid, , , ,
Point22,xy, , ,in, deg, , ,, , ,, grid, , , ,
Point23,xy, , ,in, deg, , ,, , ,, grid, , , ,
Point24,xy, , ,in, deg, , ,, , ,, grid, , , ,
Point25,xy, , ,in, deg, , ,, , ,, grid, , , ,
Point26,xy, , ,in, deg, , ,, , ,, grid, , , ,
Point27,xy, , ,in, deg, , ,, , ,, grid, , , ,
Point28,xy, , ,in, deg, , ,, , ,, grid, , , ,
Point29,xy, , ,in, deg, , ,, , ,, grid, , , ,
Point30,xy, , ,in, deg, , ,, , ,, grid, , , ,
Projection Setup,,,,,,,,,,
Map Feature = MF ; Map Comment = MC These follow if they exist
Track File = TF These follow if they exist
Moving Map Parameters = MM? These follow if they exist
MM0,Yes
MMPNUM,4
MMPXY,1,0,0
MMPXY,2,3320,0
MMPXY,3,3320,4675
MMPXY,4,0,4675
MMPLL,1, 24.391212, 38.147599
MMPLL,2, 25.979268, 36.988712
MMPLL,3, 24.773116, 37.795223
MMPLL,4, 23.185060, 38.954111
MM1B,41.055586
MOP,Map Open Position,0,0
IWH,Map Image Width/Height,3320,4675
