OziExplorer Map Data File Version 2.2
Map-013.jpg
D:\Greece\Map-013.jpg
1 ,Map Code,
WGS 84,WGS 84, 0.0000, 0.0000,WGS 84
Reserved 1
Reserved 2
Magnetic Variation,,,E
Map Projection,Latitude/Longitude,PolyCal,No,AutoCalOnly,No,BSBUseWPX,No
Point01,xy, 880, 826,in, deg, 40, 1.7658,N, 20, 15.2982,E, grid, , , ,N
Point02,xy, 3032, 483,in, deg, 40, 5.7882,N, 20, 44.577,E, grid, , , ,N
Point03,xy, 3144, 2415,in, deg, 39, 45.6972,N, 20, 46.7154,E, grid, , , ,N
Point04,xy, 2962, 4102,in, deg, 39, 28.1676,N, 20, 44.9268,E, grid, , , ,N
Point05,xy, 726, 4398,in, deg, 39, 24.2244,N, 20, 15.18,E, grid, , , ,N
Point06,xy, 1192, 2453,in, deg, 39, 44.5884,N, 20, 20.4666,E, grid, , , ,N
Point07,xy, , ,in, deg, , ,N, , ,E, grid, , , ,N
Point08,xy, , ,in, deg, , ,N, , ,W, grid, , , ,N
Point09,xy, , ,in, deg, , ,N, , ,W, grid, , , ,N
Point10,xy, , ,in, deg, , ,, , ,, grid, , , ,
Point11,xy, , ,in, deg, , ,, , ,, grid, , , ,
Point12,xy, , ,in, deg, , ,, , ,, grid, , , ,
Point13,xy, , ,in, deg, , ,, , ,, grid, , , ,
Point14,xy, , ,in, deg, , ,, , ,, grid, , , ,
Point15,xy, , ,in, deg, , ,, , ,, grid, , , ,
Point16,xy, , ,in, deg, , ,, , ,, grid, , , ,
Point17,xy, , ,in, deg, , ,, , ,, grid, , , ,
Point18,xy, , ,in, deg, , ,, , ,, grid, , , ,
Point19,xy, , ,in, deg, , ,, , ,, grid, , , ,
Point20,xy, , ,in, deg, , ,, , ,, grid, , , ,
Point21,xy, , ,in, deg, , ,, , ,, grid, , , ,
Point22,xy, , ,in, deg, , ,, , ,, grid, , , ,
Point23,xy, , ,in, deg, , ,, , ,, grid, , , ,
Point24,xy, , ,in, deg, , ,, , ,, grid, , , ,
Point25,xy, , ,in, deg, , ,, , ,, grid, , , ,
Point26,xy, , ,in, deg, , ,, , ,, grid, , , ,
Point27,xy, , ,in, deg, , ,, , ,, grid, , , ,
Point28,xy, , ,in, deg, , ,, , ,, grid, , , ,
Point29,xy, , ,in, deg, , ,, , ,, grid, , , ,
Point30,xy, , ,in, deg, , ,, , ,, grid, , , ,
Projection Setup,,,,,,,,,,
Map Feature = MF ; Map Comment = MC These follow if they exist
Track File = TF These follow if they exist
Moving Map Parameters = MM? These follow if they exist
MM0,Yes
MMPNUM,4
MMPXY,1,0,0
MMPXY,2,3308,0
MMPXY,3,3308,4676
MMPXY,4,0,4676
MMPLL,1, 20.053939, 40.166114
MMPLL,2, 20.798147, 40.183142
MMPLL,3, 20.833351, 39.369370
MMPLL,4, 20.089142, 39.352341
MM1B,19.271885
MOP,Map Open Position,0,0
IWH,Map Image Width/Height,3308,4676
