OziExplorer Map Data File Version 2.2
Map-008.jpg
D:\Greece\Map-008.jpg
1 ,Map Code,
WGS 84,WGS 84, 0.0000, 0.0000,WGS 84
Reserved 1
Reserved 2
Magnetic Variation,,,E
Map Projection,Latitude/Longitude,PolyCal,No,AutoCalOnly,No,BSBUseWPX,No
Point01,xy, 362, 197,in, deg, 39, 28.0158,N, 20, 30.7098,E, grid, , , ,N
Point02,xy, 3473, 496,in, deg, 39, 25.8966,N, 21, 12.5586,E, grid, , , ,N
Point03,xy, 6618, 156,in, deg, 39, 30.2388,N, 21, 54.6942,E, grid, , , ,N
Point04,xy, 6366, 1858,in, deg, 39, 12.5088,N, 21, 51.6426,E, grid, , , ,N
Point05,xy, 3633, 2234,in, deg, 39, 7.9272,N, 21, 15.6924,E, grid, , , ,N
Point06,xy, 420, 1797,in, deg, 39, 11.7924,N, 20, 31.8708,E, grid, , , ,N
Point07,xy, 200, 3880,in, deg, 39, 26.0568,N, 19, 58.4682,E, grid, , , ,N
Point08,xy, 3339, 3642,in, deg, 38, 53.2368,N, 21, 12.0402,E, grid, , , ,N
Point09,xy, 6582, 3616,in, deg, 38, 54.576,N, 21, 54.8238,E, grid, , , ,N
Point10,xy, , ,in, deg, , ,, , ,, grid, , , ,
Point11,xy, , ,in, deg, , ,, , ,, grid, , , ,
Point12,xy, , ,in, deg, , ,, , ,, grid, , , ,
Point13,xy, , ,in, deg, , ,, , ,, grid, , , ,
Point14,xy, , ,in, deg, , ,, , ,, grid, , , ,
Point15,xy, , ,in, deg, , ,, , ,, grid, , , ,
Point16,xy, , ,in, deg, , ,, , ,, grid, , , ,
Point17,xy, , ,in, deg, , ,, , ,, grid, , , ,
Point18,xy, , ,in, deg, , ,, , ,, grid, , , ,
Point19,xy, , ,in, deg, , ,, , ,, grid, , , ,
Point20,xy, , ,in, deg, , ,, , ,, grid, , , ,
Point21,xy, , ,in, deg, , ,, , ,, grid, , , ,
Point22,xy, , ,in, deg, , ,, , ,, grid, , , ,
Point23,xy, , ,in, deg, , ,, , ,, grid, , , ,
Point24,xy, , ,in, deg, , ,, , ,, grid, , , ,
Point25,xy, , ,in, deg, , ,, , ,, grid, , , ,
Point26,xy, , ,in, deg, , ,, , ,, grid, , , ,
Point27,xy, , ,in, deg, , ,, , ,, grid, , , ,
Point28,xy, , ,in, deg, , ,, , ,, grid, , , ,
Point29,xy, , ,in, deg, , ,, , ,, grid, , , ,
Point30,xy, , ,in, deg, , ,, , ,, grid, , , ,
Projection Setup,,,,,,,,,,
Map Feature = MF ; Map Comment = MC These follow if they exist
Track File = TF These follow if they exist
Moving Map Parameters = MM? These follow if they exist
MM0,Yes
MMPNUM,4
MMPXY,1,0,0
MMPXY,2,6804,0
MMPXY,3,6804,4676
MMPXY,4,0,4676
MMPLL,1, 20.337291, 39.609431
MMPLL,2, 22.072055, 39.391369
MMPLL,3, 21.924875, 38.784304
MMPLL,4, 20.190111, 39.002367
MM1B,22.023487
MOP,Map Open Position,0,0
IWH,Map Image Width/Height,6804,4676
