OziExplorer Map Data File Version 2.2
Map-006.jpg
D:\Greece\Map-006.jpg
1 ,Map Code,
WGS 84,WGS 84, 0.0000, 0.0000,WGS 84
Reserved 1
Reserved 2
Magnetic Variation,,,E
Map Projection,Latitude/Longitude,PolyCal,No,AutoCalOnly,No,BSBUseWPX,No
Point01,xy, 422, 360,in, deg, 40, 34.1430,N, 23, 17.0586,E, grid, , , ,N
Point02,xy, 6269, 87,in, deg, 40, 36.5964,N, 24, 36.8616,E, grid, , , ,N
Point03,xy, 5703, 3934,in, deg, 39, 52.9374,N, 25, 18.4668,E, grid, , , ,N
Point04,xy, 3191, 3758,in, deg, 39, 59.0538,N, 23, 54.0996,E, grid, , , ,N
Point05,xy, 944, 3831,in, deg, 39, 58.2798,N, 23, 23.7966,E, grid, , , ,N
Point06,xy, 1564, 1967,in, deg, 40, 17.6196,N, 23, 32.4522,E, grid, , , ,N
Point07,xy, 4677, 2142,in, deg, 40, 15.4536,N, 24, 14.5806,E, grid, , , ,N
Point08,xy, , ,in, deg, , ,N, , ,W, grid, , , ,N
Point09,xy, , ,in, deg, , ,N, , ,W, grid, , , ,N
Point10,xy, , ,in, deg, , ,, , ,, grid, , , ,
Point11,xy, , ,in, deg, , ,, , ,, grid, , , ,
Point12,xy, , ,in, deg, , ,, , ,, grid, , , ,
Point13,xy, , ,in, deg, , ,, , ,, grid, , , ,
Point14,xy, , ,in, deg, , ,, , ,, grid, , , ,
Point15,xy, , ,in, deg, , ,, , ,, grid, , , ,
Point16,xy, , ,in, deg, , ,, , ,, grid, , , ,
Point17,xy, , ,in, deg, , ,, , ,, grid, , , ,
Point18,xy, , ,in, deg, , ,, , ,, grid, , , ,
Point19,xy, , ,in, deg, , ,, , ,, grid, , , ,
Point20,xy, , ,in, deg, , ,, , ,, grid, , , ,
Point21,xy, , ,in, deg, , ,, , ,, grid, , , ,
Point22,xy, , ,in, deg, , ,, , ,, grid, , , ,
Point23,xy, , ,in, deg, , ,, , ,, grid, , , ,
Point24,xy, , ,in, deg, , ,, , ,, grid, , , ,
Point25,xy, , ,in, deg, , ,, , ,, grid, , , ,
Point26,xy, , ,in, deg, , ,, , ,, grid, , , ,
Point27,xy, , ,in, deg, , ,, , ,, grid, , , ,
Point28,xy, , ,in, deg, , ,, , ,, grid, , , ,
Point29,xy, , ,in, deg, , ,, , ,, grid, , , ,
Point30,xy, , ,in, deg, , ,, , ,, grid, , , ,
Projection Setup,,,,,,,,,,
Map Feature = MF ; Map Comment = MC These follow if they exist
Track File = TF These follow if they exist
Moving Map Parameters = MM? These follow if they exist
MM0,Yes
MMPNUM,4
MMPXY,1,0,0
MMPXY,2,6804,0
MMPXY,3,6804,4676
MMPXY,4,0,4676
MMPLL,1, 22.800105, 40.663305
MMPLL,2, 24.957612, 40.606146
MMPLL,3, 25.384422, 39.767500
MMPLL,4, 23.226915, 39.824659
MM1B,26.957595
MOP,Map Open Position,0,0
IWH,Map Image Width/Height,6804,4676
