OziExplorer Map Data File Version 2.2
BAKEL
BAKEL.png
1 ,Map Code,
Australian Geodetic 1984,, 0.0000, 0.0000,WGS 84
Reserved 1
Reserved 2
Magnetic Variation,,,E
Map Projection,Latitude/Longitude,PolyCal,Yes,AutoCalOnly,No,BSBUseWPX,No
Point01,xy, 138, 244,in, deg, 15, 0.0000,N, 13, 0.0000,W, grid, , , ,
Point02,xy, 2244, 243,in, deg, 15, 0.0000,N, 12, 30.0000,W, grid, , , ,
Point03,xy, 4353, 237,in, deg, 15, 0.0000,N, 12, 0.0000,W, grid, , , ,
Point04,xy, 136, 2416,in, deg, 14, 30.0000,N, 13, 0.0000,W, grid, , , ,
Point05,xy, 2250, 2418,in, deg, 14, 30.0000,N, 12, 30.0000,W, grid, , , ,
Point06,xy, 4365, 2413,in, deg, 14, 30.0000,N, 12, 0.0000,W, grid, , , ,
Point07,xy, 136, 4589,in, deg, 14, 0.0000,N, 13, 0.0000,W, grid, , , ,
Point08,xy, 2252, 4590,in, deg, 14, 0.0000,N, 12, 30.0000,W, grid, , , ,
Point09,xy, 4371, 4591,in, deg, 14, 0.0000,N, 12, 0.0000,W, grid, , , ,
Point10,xy, , ,in, deg, , ,, , ,, grid, , , ,
Point11,xy, , ,in, deg, , ,, , ,, grid, , , ,
Point12,xy, , ,in, deg, , ,, , ,, grid, , , ,
Point13,xy, , ,in, deg, , ,, , ,, grid, , , ,
Point14,xy, , ,in, deg, , ,, , ,, grid, , , ,
Point15,xy, , ,in, deg, , ,, , ,, grid, , , ,
Point16,xy, , ,in, deg, , ,, , ,, grid, , , ,
Point17,xy, , ,in, deg, , ,, , ,, grid, , , ,
Point18,xy, , ,in, deg, , ,, , ,, grid, , , ,
Point19,xy, , ,in, deg, , ,, , ,, grid, , , ,
Point20,xy, , ,in, deg, , ,, , ,, grid, , , ,
Point21,xy, , ,in, deg, , ,, , ,, grid, , , ,
Point22,xy, , ,in, deg, , ,, , ,, grid, , , ,
Point23,xy, , ,in, deg, , ,, , ,, grid, , , ,
Point24,xy, , ,in, deg, , ,, , ,, grid, , , ,
Point25,xy, , ,in, deg, , ,, , ,, grid, , , ,
Point26,xy, , ,in, deg, , ,, , ,, grid, , , ,
Point27,xy, , ,in, deg, , ,, , ,, grid, , , ,
Point28,xy, , ,in, deg, , ,, , ,, grid, , , ,
Point29,xy, , ,in, deg, , ,, , ,, grid, , , ,
Point30,xy, , ,in, deg, , ,, , ,, grid, , , ,
Projection Setup,,,,,,,,,,
Map Feature = MF ; Map Comment = MC These follow if they exist
Track File = TF These follow if they exist
Moving Map Parameters = MM? These follow if they exist
MM0,Yes
MMPNUM,4
MMPXY,1,0,0
MMPXY,2,4510,0
MMPXY,3,4530,4714
MMPXY,4,0,4712
MMPLL,1, -13.032543, 15.056220
MMPLL,2, -11.962625, 15.054325
MMPLL,3, -11.962730, 13.971519
MMPLL,4, -13.031901, 13.971476
MM1B,25.540241
MOP,Map Open Position,0,0
IWH,Map Image Width/Height,2500,1395
