OziExplorer Map Data File Version 2.1
Argentina_pol96.jpg
C:\TEMP\Argentina.jpg
1 TIFF scale factor
European 1979,WGS 84, 0.0000, 0.0000,WGS 84
Reserved 1
Reserved 2
Magnetic Variation,,,E
Map Projection,Lambert Conformal Conic,PolyCal,No,AutoCalOnly,No,BSBUseWPX,Yes
Point01,xy, 197, 97,in, deg, 24, 0.0000,S, 72, 0.0000,W, grid, , , ,N
Point02,xy, 446, 84,in, deg, 24, 0.0000,S, 64, 0.0000,W, grid, , , ,N
Point03,xy, 695, 91,in, deg, 24, 0.0000,S, 56, 0.0000,W, grid, , , ,N
Point04,xy, 942, 120,in, deg, 24, 0.0000,S, 48, 0.0000,W, grid, , , ,N
Point05,xy, 860, 650,in, deg, 40, 0.0000,S, 48, 0.0000,W, grid, , , ,N
Point06,xy, 452, 621,in, deg, 40, 0.0000,S, 64, 0.0000,W, grid, , , ,N
Point07,xy, 249, 632,in, deg, 40, 0.0000,S, 72, 0.0000,W, grid, , , ,N
Point08,xy, 274, 900,in, deg, 48, 0.0000,S, 72, 0.0000,W, grid, , , ,N
Point09,xy, 637, 895,in, deg, 48, 0.0000,S, 56, 0.0000,W, grid, , , ,N
Point10,xy, , ,in, deg, , ,, , ,, grid, , , ,
Point11,xy, , ,in, deg, , ,, , ,, grid, , , ,
Point12,xy, , ,in, deg, , ,, , ,, grid, , , ,
Point13,xy, , ,in, deg, , ,, , ,, grid, , , ,
Point14,xy, , ,in, deg, , ,, , ,, grid, , , ,
Point15,xy, , ,in, deg, , ,, , ,, grid, , , ,
Point16,xy, , ,in, deg, , ,, , ,, grid, , , ,
Point17,xy, , ,in, deg, , ,, , ,, grid, , , ,
Point18,xy, , ,in, deg, , ,, , ,, grid, , , ,
Point19,xy, , ,in, deg, , ,, , ,, grid, , , ,
Point20,xy, , ,in, deg, , ,, , ,, grid, , , ,
Point21,xy, , ,in, deg, , ,, , ,, grid, , , ,
Point22,xy, , ,in, deg, , ,, , ,, grid, , , ,
Point23,xy, , ,in, deg, , ,, , ,, grid, , , ,
Point24,xy, , ,in, deg, , ,, , ,, grid, , , ,
Point25,xy, , ,in, deg, , ,, , ,, grid, , , ,
Point26,xy, , ,in, deg, , ,, , ,, grid, , , ,
Point27,xy, , ,in, deg, , ,, , ,, grid, , , ,
Point28,xy, , ,in, deg, , ,, , ,, grid, , , ,
Point29,xy, , ,in, deg, , ,, , ,, grid, , , ,
Point30,xy, , ,in, deg, , ,, , ,, grid, , , ,
Projection Setup,, -63.000000000,,,, -23.000000000, -50.000000000
Map Feature = MF ; Map Comment = MC These follow if they exist
Track File = TF These follow if they exist Moving Map Stuff = MM? These follow if they exist
MM0,Yes
MMPNUM,4
MMPXY,1,0,0
MMPXY,2,954,0
MMPXY,3,954,1170
MMPXY,4,0,1170
MMPLL,1, -77.776970, -20.456558
MMPLL,2, -48.209974, -20.501691
MMPLL,3, -39.500320, -54.406492
MMPLL,4, -86.654010, -54.336674
MM1B,3266.367854
