OziExplorer Map Data File Version 2.2
Map-026.jpg
D:\Greece\Map-026.jpg
1 ,Map Code,
WGS 84,WGS 84, 0.0000, 0.0000,WGS 84
Reserved 1
Reserved 2
Magnetic Variation,,,E
Map Projection,Latitude/Longitude,PolyCal,No,AutoCalOnly,No,BSBUseWPX,No
Point01,xy, 63, 581,in, deg, 38, 21.4596,N, 22, 57.3468,E, grid, , , ,N
Point02,xy, 3010, 434,in, deg, 38, 23.1102,N, 23, 35.949,E, grid, , , ,N
Point03,xy, 6394, 1041,in, deg, 37, 25.3398,N, 24, 53.3832,E, grid, , , ,N
Point04,xy, 6680, 2464,in, deg, 38, 2.4012,N, 24, 23.886,E, grid, , , ,N
Point05,xy, 2660, 1800,in, deg, 38, 9.3096,N, 23, 31.584,E, grid, , , ,N
Point06,xy, 389, 3605,in, deg, 37, 49.9098,N, 23, 2.1486,E, grid, , , ,N
Point07,xy, 4689, 3683,in, deg, 37, 49.455,N, 23, 57.9834,E, grid, , , ,N
Point08,xy, , ,in, deg, , ,N, , ,W, grid, , , ,N
Point09,xy, , ,in, deg, , ,N, , ,W, grid, , , ,N
Point10,xy, , ,in, deg, , ,, , ,, grid, , , ,
Point11,xy, , ,in, deg, , ,, , ,, grid, , , ,
Point12,xy, , ,in, deg, , ,, , ,, grid, , , ,
Point13,xy, , ,in, deg, , ,, , ,, grid, , , ,
Point14,xy, , ,in, deg, , ,, , ,, grid, , , ,
Point15,xy, , ,in, deg, , ,, , ,, grid, , , ,
Point16,xy, , ,in, deg, , ,, , ,, grid, , , ,
Point17,xy, , ,in, deg, , ,, , ,, grid, , , ,
Point18,xy, , ,in, deg, , ,, , ,, grid, , , ,
Point19,xy, , ,in, deg, , ,, , ,, grid, , , ,
Point20,xy, , ,in, deg, , ,, , ,, grid, , , ,
Point21,xy, , ,in, deg, , ,, , ,, grid, , , ,
Point22,xy, , ,in, deg, , ,, , ,, grid, , , ,
Point23,xy, , ,in, deg, , ,, , ,, grid, , , ,
Point24,xy, , ,in, deg, , ,, , ,, grid, , , ,
Point25,xy, , ,in, deg, , ,, , ,, grid, , , ,
Point26,xy, , ,in, deg, , ,, , ,, grid, , , ,
Point27,xy, , ,in, deg, , ,, , ,, grid, , , ,
Point28,xy, , ,in, deg, , ,, , ,, grid, , , ,
Point29,xy, , ,in, deg, , ,, , ,, grid, , , ,
Point30,xy, , ,in, deg, , ,, , ,, grid, , , ,
Projection Setup,,,,,,,,,,
Map Feature = MF ; Map Comment = MC These follow if they exist
Track File = TF These follow if they exist
Moving Map Parameters = MM? These follow if they exist
MM0,Yes
MMPNUM,4
MMPXY,1,0,0
MMPXY,2,6804,0
MMPXY,3,6804,4676
MMPXY,4,0,4676
MMPLL,1, 23.009358, 38.356757
MMPLL,2, 24.757636, 37.944738
MMPLL,3, 24.471959, 37.589257
MMPLL,4, 22.723681, 38.001276
MM1B,22.775754
MOP,Map Open Position,0,0
IWH,Map Image Width/Height,6804,4676
