OziExplorer Map Data File Version 2.2
Map-017.jpg
D:\Greece\Map-017.jpg
1 ,Map Code,
WGS 84,WGS 84, 0.0000, 0.0000,WGS 84
Reserved 1
Reserved 2
Magnetic Variation,,,E
Map Projection,Latitude/Longitude,PolyCal,No,AutoCalOnly,No,BSBUseWPX,No
Point01,xy, 807, 565,in, deg, 37, 57.7296,N, 24, 44.5242,E, grid, , , ,N
Point02,xy, 1628, 1809,in, deg, 37, 44.685,N, 24, 55.2498,E, grid, , , ,N
Point03,xy, 2897, 2971,in, deg, 37, 32.3454,N, 25, 11.5272,E, grid, , , ,N
Point04,xy, 2497, 4061,in, deg, 37, 24.7932,N, 25, 20.4138,E, grid, , , ,N
Point05,xy, 1143, 4031,in, deg, 37, 25.2126,N, 24, 56.685,E, grid, , , ,N
Point06,xy, 180, 4129,in, deg, 38, 16.2522,N, 24, 11.1774,E, grid, , , ,N
Point07,xy, 66, 2649,in, deg, 38, 31.1658,N, 24, 9.9168,E, grid, , , ,N
Point08,xy, , ,in, deg, , ,N, , ,W, grid, , , ,N
Point09,xy, , ,in, deg, , ,N, , ,W, grid, , , ,N
Point10,xy, , ,in, deg, , ,, , ,, grid, , , ,
Point11,xy, , ,in, deg, , ,, , ,, grid, , , ,
Point12,xy, , ,in, deg, , ,, , ,, grid, , , ,
Point13,xy, , ,in, deg, , ,, , ,, grid, , , ,
Point14,xy, , ,in, deg, , ,, , ,, grid, , , ,
Point15,xy, , ,in, deg, , ,, , ,, grid, , , ,
Point16,xy, , ,in, deg, , ,, , ,, grid, , , ,
Point17,xy, , ,in, deg, , ,, , ,, grid, , , ,
Point18,xy, , ,in, deg, , ,, , ,, grid, , , ,
Point19,xy, , ,in, deg, , ,, , ,, grid, , , ,
Point20,xy, , ,in, deg, , ,, , ,, grid, , , ,
Point21,xy, , ,in, deg, , ,, , ,, grid, , , ,
Point22,xy, , ,in, deg, , ,, , ,, grid, , , ,
Point23,xy, , ,in, deg, , ,, , ,, grid, , , ,
Point24,xy, , ,in, deg, , ,, , ,, grid, , , ,
Point25,xy, , ,in, deg, , ,, , ,, grid, , , ,
Point26,xy, , ,in, deg, , ,, , ,, grid, , , ,
Point27,xy, , ,in, deg, , ,, , ,, grid, , , ,
Point28,xy, , ,in, deg, , ,, , ,, grid, , , ,
Point29,xy, , ,in, deg, , ,, , ,, grid, , , ,
Point30,xy, , ,in, deg, , ,, , ,, grid, , , ,
Projection Setup,,,,,,,,,,
Map Feature = MF ; Map Comment = MC These follow if they exist
Track File = TF These follow if they exist
Moving Map Parameters = MM? These follow if they exist
MM0,Yes
MMPNUM,4
MMPXY,1,0,0
MMPXY,2,3308,0
MMPXY,3,3308,4676
MMPXY,4,0,4676
MMPLL,1, 24.319073, 38.357845
MMPLL,2, 25.711113, 37.227837
MMPLL,3, 25.567474, 37.115342
MMPLL,4, 24.175435, 38.245351
MM1B,36.285176
MOP,Map Open Position,0,0
IWH,Map Image Width/Height,3308,4676
