OziExplorer Map Data File Version 2.2
Map-014.jpg
D:\Greece\Map-014.jpg
1 ,Map Code,
WGS 84,WGS 84, 0.0000, 0.0000,WGS 84
Reserved 1
Reserved 2
Magnetic Variation,,,E
Map Projection,Latitude/Longitude,PolyCal,No,AutoCalOnly,No,BSBUseWPX,No
Point01,xy, 1675, 619,in, deg, 38, 49.0464,N, 20, 38.9100,E, grid, , , ,N
Point02,xy, 3996, 463,in, deg, 38, 51.6924,N, 21, 10.0476,E, grid, , , ,N
Point03,xy, 6544, 495,in, deg, 38, 52.0524,N, 21, 43.6284,E, grid, , , ,N
Point04,xy, 6527, 4466,in, deg, 38, 11.2350,N, 21, 44.8428,E, grid, , , ,N
Point05,xy, 5039, 4495,in, deg, 38, 10.5528,N, 21, 25.3566,E, grid, , , ,N
Point06,xy, 347, 4091,in, deg, 38, 12.7032,N, 20, 23.7672,E, grid, , , ,N
Point07,xy, 5191, 2130,in, deg, 38, 34.9344,N, 21, 26.5434,E, grid, , , ,N
Point08,xy, 3551, 2333,in, deg, 38, 32.2014,N, 21, 4.8978,E, grid, , , ,N
Point09,xy, , ,in, deg, , ,N, , ,W, grid, , , ,N
Point10,xy, , ,in, deg, , ,N, , ,W, grid, , , ,N
Point11,xy, , ,in, deg, , ,N, , ,W, grid, , , ,N
Point12,xy, , ,in, deg, , ,N, , ,W, grid, , , ,N
Point13,xy, , ,in, deg, , ,N, , ,W, grid, , , ,N
Point14,xy, , ,in, deg, , ,N, , ,W, grid, , , ,N
Point15,xy, , ,in, deg, , ,N, , ,W, grid, , , ,N
Point16,xy, , ,in, deg, , ,N, , ,W, grid, , , ,N
Point17,xy, , ,in, deg, , ,N, , ,W, grid, , , ,N
Point18,xy, , ,in, deg, , ,N, , ,W, grid, , , ,N
Point19,xy, , ,in, deg, , ,N, , ,W, grid, , , ,N
Point20,xy, , ,in, deg, , ,N, , ,W, grid, , , ,N
Point21,xy, , ,in, deg, , ,N, , ,W, grid, , , ,N
Point22,xy, , ,in, deg, , ,N, , ,W, grid, , , ,N
Point23,xy, , ,in, deg, , ,N, , ,W, grid, , , ,N
Point24,xy, , ,in, deg, , ,N, , ,W, grid, , , ,N
Point25,xy, , ,in, deg, , ,N, , ,W, grid, , , ,N
Point26,xy, , ,in, deg, , ,N, , ,W, grid, , , ,N
Point27,xy, , ,in, deg, , ,N, , ,W, grid, , , ,N
Point28,xy, , ,in, deg, , ,N, , ,W, grid, , , ,N
Point29,xy, , ,in, deg, , ,N, , ,W, grid, , , ,N
Point30,xy, , ,in, deg, , ,N, , ,W, grid, , , ,N
Projection Setup,,,,,,,,,,
Map Feature = MF ; Map Comment = MC These follow if they exist
Track File = TF These follow if they exist
Moving Map Parameters = MM? These follow if they exist
MM0,Yes
MMPNUM,4
MMPXY,1,0,0
MMPXY,2,6804,0
MMPXY,3,6804,4676
MMPXY,4,0,4676
MMPLL,1, 20.283903, 38.913463
MMPLL,2, 21.777729, 38.956926
MMPLL,3, 21.813330, 38.154234
MMPLL,4, 20.319504, 38.110771
MM1B,19.134720
MOP,Map Open Position,0,0
IWH,Map Image Width/Height,6804,4676
